BEGIN:VCALENDAR
VERSION:2.0
PRODID:-//ChamberMaster//Event Calendar 2.0//EN
METHOD:PUBLISH
X-PUBLISHED-TTL:P3D
REFRESH-INTERVAL:P3D
CALSCALE:GREGORIAN
BEGIN:VEVENT
DTSTART:20260410T130000Z
DTEND:20260410T140000Z
X-MICROSOFT-CDO-ALLDAYEVENT:FALSE
SUMMARY:Chamber Monthly Coffee Hosted by The Osprey Observer
DESCRIPTION:Join us for our Monthly Coffee Hosted by The Osprey Observer for a warm informal way to start your morning off and make new business connections! This month's coffee will be held at Armetta's Gelato & Caffe'.
X-ALT-DESC;FMTTYPE=text/html:<span style="font-size:14px\;"><span style="font-family:verdana\;">Join us for our Monthly Coffee Hosted by<strong> The&nbsp\;Osprey Observer</strong> f<span style="text-align: center\;">or a warm informal way to start your morning off and make new business connections! This month&#39\;s coffee will be held at Armetta&#39\;s Gelato &amp\; Caffe&#39\;.</span></span></span>
LOCATION:Armetta's Gelato & Cafe\, 6146 N. US HWY 41 in Apollo Beach
UID:e.1369.23626
SEQUENCE:3
DTSTAMP:20260420T035923Z
URL:https://www.southshorechamberofcommerce.org/events/details/chamber-monthly-coffee-hosted-by-osprey-observer-23626
END:VEVENT

END:VCALENDAR
