BEGIN:VCALENDAR
VERSION:2.0
PRODID:-//ChamberMaster//Event Calendar 2.0//EN
METHOD:PUBLISH
X-PUBLISHED-TTL:P3D
REFRESH-INTERVAL:P3D
CALSCALE:GREGORIAN
BEGIN:VEVENT
DTSTART:20260612T130000Z
DTEND:20260612T140000Z
X-MICROSOFT-CDO-ALLDAYEVENT:FALSE
SUMMARY:Chamber Monthly Coffee Hosted by Shadetree Apartments
DESCRIPTION:Join us for our for a warm informal way to start your morning off and make new business connections.  This month's Coffee is Hosted by and held at Shadetree Apartments - 3511 Great Cypress Circle\,\n\nSun City Center\, FL 33573
X-ALT-DESC;FMTTYPE=text/html:Join us for our for a warm informal way to start your morning off and make new business connections.&nbsp\; This month&#39\;s Coffee is Hosted by and held at Shadetree Apartments -&nbsp\;<span style="font-family: Roboto\, sans-serif\;">3511 Great Cypress Circle\,</span><br style="font-family: Roboto\, sans-serif\;" />\n<span style="font-family: Roboto\, sans-serif\;">Sun City Center\, FL 33573</span>
LOCATION:
UID:e.1369.23628
SEQUENCE:3
DTSTAMP:20260420T141202Z
URL:https://www.southshorechamberofcommerce.org/events/details/chamber-monthly-coffee-hosted-by-shadetree-apartments-23628
END:VEVENT

END:VCALENDAR
