BEGIN:VCALENDAR
VERSION:2.0
PRODID:-//ChamberMaster//Event Calendar 2.0//EN
METHOD:PUBLISH
X-PUBLISHED-TTL:P3D
REFRESH-INTERVAL:P3D
CALSCALE:GREGORIAN
BEGIN:VEVENT
DTSTART:20260508T130000Z
DTEND:20260508T140000Z
X-MICROSOFT-CDO-ALLDAYEVENT:FALSE
SUMMARY:Chamber Monthly Coffee Hosted by Tampa Cremation of Sun City Center
DESCRIPTION:Join us for our Monthly Coffee Hosted by Tampa Cremation of Sun City Center\, for a warm informal way to start your morning off and make new business connections!
X-ALT-DESC;FMTTYPE=text/html:Join us for our Monthly Coffee Hosted by&nbsp\;<span style="color: rgb(0\, 0\, 0)\; font-family: Calibri\, sans-serif\;">Tampa Cremation of Sun City Center\,</span>&nbsp\;for a warm informal way to start your morning off and make new business connections!
LOCATION:Tampa Cremation of Sun City Center\, 1601 Rickenbacker Drive Suite 6\, Sun City Center Florida 33573
UID:e.1369.23627
SEQUENCE:3
DTSTAMP:20260420T024418Z
URL:https://www.southshorechamberofcommerce.org/events/details/chamber-monthly-coffee-hosted-by-tampa-cremation-of-sun-city-center-23627
END:VEVENT

END:VCALENDAR
