BEGIN:VCALENDAR
VERSION:2.0
PRODID:-//ChamberMaster//Event Calendar 2.0//EN
METHOD:PUBLISH
X-PUBLISHED-TTL:P3D
REFRESH-INTERVAL:P3D
CALSCALE:GREGORIAN
BEGIN:VEVENT
DTSTART:20260415T153000Z
DTEND:20260415T170000Z
X-MICROSOFT-CDO-ALLDAYEVENT:FALSE
SUMMARY:Chamber Monthly Luncheon (April) Sponsored by Allie Serrano Portraits\, Tampa Bay Sports & Entertainment Magazine and Excellence Digital\, LLC
DESCRIPTION:Join us for this month's Chamber Luncheon as we learn about 3 of our creative\, innovative and multifaceted businesses.  Co-Sponsored by Allie Serrano Portraits\, Excellence Digital\, LLC and Tampa Bay Sports & Entertainment Magazine\, our luncheon will be held at Sunset Bar and Grill at Little Harbor.\nRSVPs are required by emailing Sherell@southshorechamberofcommerce.org or registering online by end of day Friday\, April 10th.
X-ALT-DESC;FMTTYPE=text/html:<p><span style="font-size:16px\;"><span style="font-family:comic sans ms\;">Join us&nbsp\;for this month&#39\;s Chamber&nbsp\;Luncheon as we learn about 3 of our creative\, innovative and&nbsp\;m<span style="color: rgb(10\, 10\, 10)\;">ultifaceted</span>&nbsp\;businesses.&nbsp\; Co-Sponsored by&nbsp\;<strong>Allie Serrano Portraits\, Excellence Digital\, LLC and Tampa Bay Sports &amp\; Entertainment Magazine\,</strong>&nbsp\;our luncheon will be held at Sunset Bar and Grill at Little Harbor.</span></span></p>\n<span style="font-size:16px\;"><span style="font-family:comic sans ms\;"><strong>RSVPs are required</strong> by emailing <strong>Sherell@southshorechamberofcommerce.org</strong> or <strong>registering online by end of day Friday\, April 10th.</strong></span></span>
LOCATION:Sunset Bar and Grill at Little Harbor\, 602 Bahia Del Sol Dr in Ruskin
UID:e.1369.23641
SEQUENCE:3
DTSTAMP:20260420T010606Z
URL:https://www.southshorechamberofcommerce.org/events/details/chamber-monthly-luncheon-april-sponsored-by-23641
END:VEVENT

END:VCALENDAR
