BEGIN:VCALENDAR
VERSION:2.0
PRODID:-//ChamberMaster//Event Calendar 2.0//EN
METHOD:PUBLISH
X-PUBLISHED-TTL:P3D
REFRESH-INTERVAL:P3D
CALSCALE:GREGORIAN
BEGIN:VEVENT
DTSTART:20260409T153000Z
DTEND:20260409T163000Z
X-MICROSOFT-CDO-ALLDAYEVENT:FALSE
SUMMARY:Weekly Networking Lunch @ Beef O' Brady's Apollo Beach
DESCRIPTION:Come create relationships & network with us every week - meet other chamber members and make sure they know all about what you do! This month's networking lunches will be held at Beef O' Brady's Apollo Beach.\n\n\n\nNo RSVP or fee to attend - just pay your own lunch!  Guests are WELCOME to attend one meeting.
X-ALT-DESC;FMTTYPE=text/html:Come create relationships &amp\; network with us every week - meet other chamber members and make sure they know all about what you do! This month&#39\;s networking lunches will be held at&nbsp\;Beef O&#39\; Brady&#39\;s Apollo Beach.<br />\n<br />\nNo RSVP or fee to attend - just pay your own lunch!&nbsp\; Guests are WELCOME to attend one meeting.&nbsp\;
LOCATION:Month of April Weekly Networking will be held at Beef O' Bradys Apollo Beach - 205 Apollo Beach Blvd. Apollo Beach\, FL 33572
UID:e.1369.23658
SEQUENCE:3
DTSTAMP:20260420T010318Z
URL:https://www.southshorechamberofcommerce.org/events/details/weekly-networking-lunch-04-09-2026-23658
END:VEVENT

END:VCALENDAR
