BEGIN:VCALENDAR
VERSION:2.0
PRODID:-//ChamberMaster//Event Calendar 2.0//EN
METHOD:PUBLISH
X-PUBLISHED-TTL:P3D
REFRESH-INTERVAL:P3D
CALSCALE:GREGORIAN
BEGIN:VEVENT
DTSTART:20260514T153000Z
DTEND:20260514T163000Z
X-MICROSOFT-CDO-ALLDAYEVENT:FALSE
SUMMARY:Weekly Networking Lunch at East Coast Pizza
DESCRIPTION:Come create relationships & network with us every week - meet other chamber members and make sure they know all about what you do!   Month of May's Weekly Networking will be held at East Coast Pizza\, 13340 Lincoln Rd\, Riverview\, FL 33579\n\n\n\nNo RSVP or fee to attend - just pay your own lunch!  Guests are WELCOME to attend one meeting.
X-ALT-DESC;FMTTYPE=text/html:Come create relationships &amp\; network with us every week - meet other chamber members and make sure they know all about what you do!&nbsp\; &nbsp\;Month of May&#39\;s Weekly Networking will be held at East Coast Pizza\,&nbsp\;13340 Lincoln Rd\, Riverview\, FL&nbsp\;33579<br />\n<br />\nNo RSVP or fee to attend - just pay your own lunch!&nbsp\; Guests are WELCOME to attend one meeting.&nbsp\;
LOCATION:Month of May Weekly Networking will be held at East Coast Pizza\, 13340 Lincoln Rd\, Riverview\, FL 33579
UID:e.1369.23663
SEQUENCE:3
DTSTAMP:20260422T204424Z
URL:https://www.southshorechamberofcommerce.org/events/details/weekly-networking-lunch-at-east-coast-pizza-05-14-2026-23663
END:VEVENT

END:VCALENDAR
